BEGIN:VCALENDAR
VERSION:2.0
PRODID:-//Squarespace Inc/Squarespace 6//v6//EN
BEGIN:VEVENT
UID:5fc454d608845d092413fbf9@squarespace.com
DTSTAMP:20201208T024801Z
DTSTART:20201125T070000Z
DTEND:20201125T114000Z
SUMMARY:All ages Gig Paddo RSL
END:VEVENT
END:VCALENDAR
