BEGIN:VCALENDAR
VERSION:2.0
PRODID:-//Squarespace Inc/Squarespace 6//v6//EN
BEGIN:VEVENT
UID:5fc45a78f3de5e49b5ef90e2@squarespace.com
DTSTAMP:20201208T055550Z
DTSTART:20201016T210000Z
DTEND:20201017T040000Z
SUMMARY:Southend Boardriders surf competition
END:VEVENT
END:VCALENDAR
